BEGIN:VCALENDAR
VERSION:2.0
PRODID:-//Date iCal//NONSGML kigkonsult.se iCalcreator 2.20.4//
METHOD:PUBLISH
X-WR-CALNAME;VALUE=TEXT:Agenda Backoffice (Calendari)
BEGIN:VTIMEZONE
TZID:Europe/Madrid
BEGIN:STANDARD
DTSTART:20241027T030000
TZOFFSETFROM:+0200
TZOFFSETTO:+0100
TZNAME:CET
END:STANDARD
BEGIN:DAYLIGHT
DTSTART:20250330T020000
TZOFFSETFROM:+0100
TZOFFSETTO:+0200
TZNAME:CEST
END:DAYLIGHT
END:VTIMEZONE
BEGIN:VEVENT
UID:calendar.119629.field_data_agenda.0@www.reus.cat
DTSTAMP:20260423T235232Z
CREATED:20240709T092857Z
DTSTART;TZID=Europe/Madrid:20241201T180000
DTEND;TZID=Europe/Madrid:20241201T193000
LAST-MODIFIED:20240724T174659Z
SUMMARY:Recomane tenebres de l'Estellés
URL;TYPE=URI:https://www.reus.cat/agenda/recomane-tenebres-de-lestelles
END:VEVENT
END:VCALENDAR
