BEGIN:VCALENDAR
VERSION:2.0
PRODID:-//Date iCal//NONSGML kigkonsult.se iCalcreator 2.20.4//
METHOD:PUBLISH
X-WR-CALNAME;VALUE=TEXT:Agenda Backoffice (Calendari)
BEGIN:VTIMEZONE
TZID:Europe/Madrid
BEGIN:STANDARD
DTSTART:20241027T030000
TZOFFSETFROM:+0200
TZOFFSETTO:+0100
TZNAME:CET
END:STANDARD
BEGIN:DAYLIGHT
DTSTART:20250330T020000
TZOFFSETFROM:+0100
TZOFFSETTO:+0200
TZNAME:CEST
END:DAYLIGHT
END:VTIMEZONE
BEGIN:VEVENT
UID:calendar.120006.field_data_agenda.0@www.reus.cat
DTSTAMP:20260420T180526Z
CREATED:20240717T075818Z
DTSTART;TZID=Europe/Madrid:20241116T203000
DTEND;TZID=Europe/Madrid:20241116T203000
LAST-MODIFIED:20240722T110035Z
SUMMARY:La dona fantasma
URL;TYPE=URI:https://www.reus.cat/agenda/la-dona-fantasma
END:VEVENT
END:VCALENDAR
