BEGIN:VCALENDAR
VERSION:2.0
PRODID:-//Date iCal//NONSGML kigkonsult.se iCalcreator 2.20.4//
METHOD:PUBLISH
X-WR-CALNAME;VALUE=TEXT:Agenda Backoffice (Calendari)
BEGIN:VTIMEZONE
TZID:Europe/Madrid
BEGIN:STANDARD
DTSTART:20241027T030000
TZOFFSETFROM:+0200
TZOFFSETTO:+0100
TZNAME:CET
END:STANDARD
BEGIN:DAYLIGHT
DTSTART:20240331T020000
TZOFFSETFROM:+0100
TZOFFSETTO:+0200
RDATE:20250330T020000
TZNAME:CEST
END:DAYLIGHT
END:VTIMEZONE
BEGIN:VEVENT
UID:calendar.121798.field_data_agenda.0@www.reus.cat
DTSTAMP:20260419T235158Z
CREATED:20241003T074717Z
DTSTART;TZID=Europe/Madrid:20241004T180000
DTEND;TZID=Europe/Madrid:20241004T190000
LAST-MODIFIED:20241003T075237Z
SUMMARY:Concert “Volta al món en 60 cordes” amb la Camerata XXI
URL;TYPE=URI:https://www.reus.cat/agenda/concert-volta-al-mon-en-60-cordes-
 amb-la-camerata-xxi
END:VEVENT
END:VCALENDAR
