BEGIN:VCALENDAR
VERSION:2.0
PRODID:-//Date iCal//NONSGML kigkonsult.se iCalcreator 2.20.4//
METHOD:PUBLISH
X-WR-CALNAME;VALUE=TEXT:Agenda Backoffice (Calendari)
BEGIN:VTIMEZONE
TZID:Europe/Madrid
BEGIN:STANDARD
DTSTART:20241027T030000
TZOFFSETFROM:+0200
TZOFFSETTO:+0100
TZNAME:CET
END:STANDARD
BEGIN:DAYLIGHT
DTSTART:20250330T020000
TZOFFSETFROM:+0100
TZOFFSETTO:+0200
TZNAME:CEST
END:DAYLIGHT
END:VTIMEZONE
BEGIN:VEVENT
UID:calendar.123153.field_data_agenda.0@www.reus.cat
DTSTAMP:20260420T204450Z
CREATED:20241030T121734Z
DTSTART;TZID=Europe/Madrid:20241111T090000
DTEND;TZID=Europe/Madrid:20241111T210000
LAST-MODIFIED:20241115T214729Z
RRULE:FREQ=DAILY;UNTIL=20241127T215959Z;INTERVAL=1;WKST=MO
SUMMARY:25N\, Dia Internacional per l'Erradicació de la Violència vers les 
 Dones
URL;TYPE=URI:https://www.reus.cat/agenda/25n-dia-internacional-lerradicacio
 -de-la-violencia-vers-les-dones
END:VEVENT
END:VCALENDAR
