BEGIN:VCALENDAR
VERSION:2.0
PRODID:-//Date iCal//NONSGML kigkonsult.se iCalcreator 2.20.4//
METHOD:PUBLISH
X-WR-CALNAME;VALUE=TEXT:Agenda Backoffice (Calendari)
BEGIN:VTIMEZONE
TZID:Europe/Madrid
BEGIN:STANDARD
DTSTART:20241027T030000
TZOFFSETFROM:+0200
TZOFFSETTO:+0100
RDATE:20251026T030000
TZNAME:CET
END:STANDARD
BEGIN:DAYLIGHT
DTSTART:20250330T020000
TZOFFSETFROM:+0100
TZOFFSETTO:+0200
TZNAME:CEST
END:DAYLIGHT
END:VTIMEZONE
BEGIN:VEVENT
UID:calendar.124210.field_data_agenda.0@www.reus.cat
DTSTAMP:20260420T204515Z
CREATED:20250122T095800Z
DTSTART;TZID=Europe/Madrid:20250410T100000
DTEND;TZID=Europe/Madrid:20250410T200000
LAST-MODIFIED:20250122T100116Z
RRULE:FREQ=WEEKLY;UNTIL=20250614T195959Z;INTERVAL=1;BYDAY=TU,WE,TH,FR,SA;WK
 ST=MO
SUMMARY:Ricard Duran i Bargalló (1916-1986)
URL;TYPE=URI:https://www.reus.cat/agenda/ricard-duran-i-bargallo-1916-1986
END:VEVENT
END:VCALENDAR
