BEGIN:VCALENDAR
VERSION:2.0
PRODID:-//Date iCal//NONSGML kigkonsult.se iCalcreator 2.20.4//
METHOD:PUBLISH
X-WR-CALNAME;VALUE=TEXT:Agenda Backoffice (Calendari)
BEGIN:VTIMEZONE
TZID:Europe/Madrid
BEGIN:STANDARD
DTSTART:20251026T030000
TZOFFSETFROM:+0200
TZOFFSETTO:+0100
TZNAME:CET
END:STANDARD
BEGIN:DAYLIGHT
DTSTART:20260329T020000
TZOFFSETFROM:+0100
TZOFFSETTO:+0200
TZNAME:CEST
END:DAYLIGHT
END:VTIMEZONE
BEGIN:VEVENT
UID:calendar.161463.field_data_agenda.0@www.reus.cat
DTSTAMP:20260423T124446Z
CREATED:20250617T114727Z
DTSTART;TZID=Europe/Madrid:20251111T203000
DTEND;TZID=Europe/Madrid:20251111T213000
LAST-MODIFIED:20250620T120528Z
SUMMARY:Una dona que parla d'una ciutat desconeguda
URL;TYPE=URI:https://www.reus.cat/agenda/una-dona-que-parla-duna-ciutat-des
 coneguda
END:VEVENT
END:VCALENDAR
