BEGIN:VCALENDAR
VERSION:2.0
PRODID:-//Date iCal//NONSGML kigkonsult.se iCalcreator 2.20.4//
METHOD:PUBLISH
X-WR-CALNAME;VALUE=TEXT:Agenda Backoffice (Calendari)
BEGIN:VTIMEZONE
TZID:Europe/Madrid
BEGIN:STANDARD
DTSTART:20251026T030000
TZOFFSETFROM:+0200
TZOFFSETTO:+0100
TZNAME:CET
END:STANDARD
BEGIN:DAYLIGHT
DTSTART:20260329T020000
TZOFFSETFROM:+0100
TZOFFSETTO:+0200
TZNAME:CEST
END:DAYLIGHT
END:VTIMEZONE
BEGIN:VEVENT
UID:calendar.162534.field_data_agenda.0@www.reus.cat
DTSTAMP:20260423T114311Z
CREATED:20250619T091509Z
DTSTART;TZID=Europe/Madrid:20251113T203000
DTEND;TZID=Europe/Madrid:20251113T223000
LAST-MODIFIED:20250620T121025Z
SUMMARY:Orquestra Camerata XXI - Ciutat de Reus
URL;TYPE=URI:https://www.reus.cat/agenda/orquestra-camerata-xxi-ciutat-de-r
 eus-6
END:VEVENT
END:VCALENDAR
