BEGIN:VCALENDAR
VERSION:2.0
PRODID:-//Date iCal//NONSGML kigkonsult.se iCalcreator 2.20.4//
METHOD:PUBLISH
X-WR-CALNAME;VALUE=TEXT:Agenda Backoffice (Calendari)
BEGIN:VTIMEZONE
TZID:Europe/Madrid
BEGIN:STANDARD
DTSTART:20251026T030000
TZOFFSETFROM:+0200
TZOFFSETTO:+0100
TZNAME:CET
END:STANDARD
BEGIN:DAYLIGHT
DTSTART:20250330T020000
TZOFFSETFROM:+0100
TZOFFSETTO:+0200
RDATE:20260329T020000
TZNAME:CEST
END:DAYLIGHT
END:VTIMEZONE
BEGIN:VEVENT
UID:calendar.2847531.field_data_agenda.0@www.reus.cat
DTSTAMP:20260419T220150Z
CREATED:20251009T165319Z
DTSTART;TZID=Europe/Madrid:20251031T090000
DTEND;TZID=Europe/Madrid:20251031T100000
LAST-MODIFIED:20251128T070308Z
RRULE:FREQ=DAILY;UNTIL=20260110T215959Z;INTERVAL=1;WKST=MO
SUMMARY:Dia Internacional de les Persones amb Discapacitat\, 3 de desembre
URL;TYPE=URI:https://www.reus.cat/agenda/dia-internacional-de-les-persones-
 amb-discapacitat-3-de-desembre-0
END:VEVENT
END:VCALENDAR
