BEGIN:VCALENDAR
VERSION:2.0
PRODID:-//Date iCal//NONSGML kigkonsult.se iCalcreator 2.20.4//
METHOD:PUBLISH
X-WR-CALNAME;VALUE=TEXT:Agenda Backoffice (Calendari)
BEGIN:VTIMEZONE
TZID:Europe/Madrid
BEGIN:STANDARD
DTSTART:20251026T030000
TZOFFSETFROM:+0200
TZOFFSETTO:+0100
TZNAME:CET
END:STANDARD
BEGIN:DAYLIGHT
DTSTART:20260329T020000
TZOFFSETFROM:+0100
TZOFFSETTO:+0200
TZNAME:CEST
END:DAYLIGHT
END:VTIMEZONE
BEGIN:VEVENT
UID:calendar.2861423.field_data_agenda.0@www.reus.cat
DTSTAMP:20260423T140004Z
CREATED:20251110T115132Z
DTSTART;TZID=Europe/Madrid:20251208T170000
DTEND;TZID=Europe/Madrid:20251208T200000
LAST-MODIFIED:20251204T092532Z
SUMMARY:Festes del Barri Puríssima Concepció
URL;TYPE=URI:https://www.reus.cat/agenda/festes-del-barri-purissima-concepc
 io-10
END:VEVENT
END:VCALENDAR
