BEGIN:VCALENDAR
VERSION:2.0
PRODID:-//Date iCal//NONSGML kigkonsult.se iCalcreator 2.20.4//
METHOD:PUBLISH
X-WR-CALNAME;VALUE=TEXT:Agenda Backoffice (Calendari)
BEGIN:VTIMEZONE
TZID:Europe/Madrid
BEGIN:STANDARD
DTSTART:20251026T030000
TZOFFSETFROM:+0200
TZOFFSETTO:+0100
TZNAME:CET
END:STANDARD
BEGIN:DAYLIGHT
DTSTART:20260329T020000
TZOFFSETFROM:+0100
TZOFFSETTO:+0200
TZNAME:CEST
END:DAYLIGHT
END:VTIMEZONE
BEGIN:VEVENT
UID:calendar.2865255.field_data_agenda.0@www.reus.cat
DTSTAMP:20260419T194842Z
CREATED:20251119T114636Z
DTSTART;TZID=Europe/Madrid:20251124T183000
DTEND;TZID=Europe/Madrid:20251124T193000
LAST-MODIFIED:20251119T120715Z
SUMMARY:L’Arxiu Municipal presenta una nova edició de «Memòries de Reus»\, 
 aquesta vegada centrat en recollir testimonis de comerços històrics de la 
 ciutat.
URL;TYPE=URI:https://www.reus.cat/agenda/larxiu-municipal-presenta-una-nova
 -edicio-de-memories-de-reus-aquesta-vegada-centrat-en
END:VEVENT
END:VCALENDAR
