BEGIN:VCALENDAR
VERSION:2.0
PRODID:-//Date iCal//NONSGML kigkonsult.se iCalcreator 2.20.4//
METHOD:PUBLISH
X-WR-CALNAME;VALUE=TEXT:Agenda Backoffice (Calendari)
BEGIN:VTIMEZONE
TZID:Europe/Madrid
BEGIN:STANDARD
DTSTART:20251026T030000
TZOFFSETFROM:+0200
TZOFFSETTO:+0100
TZNAME:CET
END:STANDARD
BEGIN:DAYLIGHT
DTSTART:20260329T020000
TZOFFSETFROM:+0100
TZOFFSETTO:+0200
TZNAME:CEST
END:DAYLIGHT
END:VTIMEZONE
BEGIN:VEVENT
UID:calendar.2868572.field_data_agenda.0@www.reus.cat
DTSTAMP:20260419T163005Z
CREATED:20251127T113555Z
DTSTART;TZID=Europe/Madrid:20251205T183000
DTEND;TZID=Europe/Madrid:20251205T183000
LAST-MODIFIED:20251127T114805Z
SUMMARY:Contes pel calendari d'Advent
URL;TYPE=URI:https://www.reus.cat/agenda/contes-pel-calendari-dadvent
END:VEVENT
END:VCALENDAR
