BEGIN:VCALENDAR
VERSION:2.0
PRODID:-//Date iCal//NONSGML kigkonsult.se iCalcreator 2.20.4//
METHOD:PUBLISH
X-WR-CALNAME;VALUE=TEXT:Agenda Backoffice (Calendari)
BEGIN:VTIMEZONE
TZID:Europe/Madrid
BEGIN:STANDARD
DTSTART:20251026T030000
TZOFFSETFROM:+0200
TZOFFSETTO:+0100
RDATE:20261025T030000
TZNAME:CET
END:STANDARD
BEGIN:DAYLIGHT
DTSTART:20260329T020000
TZOFFSETFROM:+0100
TZOFFSETTO:+0200
TZNAME:CEST
END:DAYLIGHT
END:VTIMEZONE
BEGIN:VEVENT
UID:calendar.2889141.field_data_agenda.0@www.reus.cat
DTSTAMP:20260419T222620Z
CREATED:20260115T085859Z
DTSTART;TZID=Europe/Madrid:20260424T210000
DTEND;TZID=Europe/Madrid:20260424T220000
LAST-MODIFIED:20260115T085859Z
SUMMARY:Reus Cultura Contemporània · Concert de Torazinas + Coca D'Anxova
URL;TYPE=URI:https://www.reus.cat/agenda/reus-cultura-contemporania-concert
 -de-torazinas-coca-danxova
END:VEVENT
END:VCALENDAR
