BEGIN:VCALENDAR
VERSION:2.0
PRODID:-//Date iCal//NONSGML kigkonsult.se iCalcreator 2.20.4//
METHOD:PUBLISH
X-WR-CALNAME;VALUE=TEXT:Agenda Backoffice (Calendari)
BEGIN:VTIMEZONE
TZID:Europe/Madrid
BEGIN:STANDARD
DTSTART:20251026T030000
TZOFFSETFROM:+0200
TZOFFSETTO:+0100
TZNAME:CET
END:STANDARD
BEGIN:DAYLIGHT
DTSTART:20260329T020000
TZOFFSETFROM:+0100
TZOFFSETTO:+0200
TZNAME:CEST
END:DAYLIGHT
END:VTIMEZONE
BEGIN:VEVENT
UID:calendar.2891639.field_data_agenda.0@www.reus.cat
DTSTAMP:20260424T235259Z
CREATED:20260120T125040Z
DTSTART;TZID=Europe/Madrid:20260203T100000
DTEND;TZID=Europe/Madrid:20260203T100000
LAST-MODIFIED:20260121T105349Z
RRULE:FREQ=DAILY;UNTIL=20260220T215959Z;INTERVAL=1;WKST=MO
SUMMARY:Exposició. Ocupades: dones palestines de la Nakba a Gaza
URL;TYPE=URI:https://www.reus.cat/agenda/exposicio-ocupades-dones-palestine
 s-de-la-nakba-gaza
END:VEVENT
END:VCALENDAR
