BEGIN:VCALENDAR
VERSION:2.0
PRODID:-//Date iCal//NONSGML kigkonsult.se iCalcreator 2.20.4//
METHOD:PUBLISH
X-WR-CALNAME;VALUE=TEXT:Agenda Backoffice (Calendari)
BEGIN:VTIMEZONE
TZID:Europe/Madrid
BEGIN:STANDARD
DTSTART:20251026T030000
TZOFFSETFROM:+0200
TZOFFSETTO:+0100
TZNAME:CET
END:STANDARD
BEGIN:DAYLIGHT
DTSTART:20260329T020000
TZOFFSETFROM:+0100
TZOFFSETTO:+0200
TZNAME:CEST
END:DAYLIGHT
END:VTIMEZONE
BEGIN:VEVENT
UID:calendar.2902725.field_data_agenda.0@www.reus.cat
DTSTAMP:20260421T111425Z
CREATED:20260214T102242Z
DTSTART;TZID=Europe/Madrid:20260307T110000
DTEND;TZID=Europe/Madrid:20260307T133000
LAST-MODIFIED:20260216T081435Z
RRULE:FREQ=MONTHLY;UNTIL=20261205T215959Z;INTERVAL=1;BYDAY=+1SA;BYMONTH=3,4
 ,5,6,9,10,11,12;WKST=MO
SUMMARY:'Observem\, escoltem\, toquem en família'
URL;TYPE=URI:https://www.reus.cat/agenda/observem-escoltem-toquem-en-famili
 a-5
END:VEVENT
END:VCALENDAR
