BEGIN:VCALENDAR
VERSION:2.0
PRODID:-//Date iCal//NONSGML kigkonsult.se iCalcreator 2.20.4//
METHOD:PUBLISH
X-WR-CALNAME;VALUE=TEXT:Agenda Backoffice (Calendari)
BEGIN:VTIMEZONE
TZID:Europe/Madrid
BEGIN:STANDARD
DTSTART:20251026T030000
TZOFFSETFROM:+0200
TZOFFSETTO:+0100
RDATE:20261025T030000
TZNAME:CET
END:STANDARD
BEGIN:DAYLIGHT
DTSTART:20260329T020000
TZOFFSETFROM:+0100
TZOFFSETTO:+0200
TZNAME:CEST
END:DAYLIGHT
END:VTIMEZONE
BEGIN:VEVENT
UID:calendar.2904120.field_data_agenda.0@www.reus.cat
DTSTAMP:20260419T231441Z
CREATED:20260217T091952Z
DTSTART;TZID=Europe/Madrid:20260514T190000
DTEND;TZID=Europe/Madrid:20260514T200000
LAST-MODIFIED:20260218T110833Z
RRULE:FREQ=DAILY;UNTIL=20261018T195959Z;INTERVAL=1;WKST=MO
SUMMARY:En el nom de Gaudí
URL;TYPE=URI:https://www.reus.cat/agenda/en-el-nom-de-gaudi
END:VEVENT
END:VCALENDAR
