BEGIN:VCALENDAR
VERSION:2.0
PRODID:-//Date iCal//NONSGML kigkonsult.se iCalcreator 2.20.4//
METHOD:PUBLISH
X-WR-CALNAME;VALUE=TEXT:Agenda Backoffice (Calendari)
BEGIN:VTIMEZONE
TZID:Europe/Madrid
BEGIN:STANDARD
DTSTART:20251026T030000
TZOFFSETFROM:+0200
TZOFFSETTO:+0100
TZNAME:CET
END:STANDARD
BEGIN:DAYLIGHT
DTSTART:20260329T020000
TZOFFSETFROM:+0100
TZOFFSETTO:+0200
TZNAME:CEST
END:DAYLIGHT
END:VTIMEZONE
BEGIN:VEVENT
UID:calendar.2909219.field_data_agenda.0@www.reus.cat
DTSTAMP:20260424T202446Z
CREATED:20260227T075111Z
DTSTART;TZID=Europe/Madrid:20260304T090000
DTEND;TZID=Europe/Madrid:20260304T110000
LAST-MODIFIED:20260227T084955Z
SUMMARY:Caminada saludable - sortida barri Carrilet i Pastoreta
URL;TYPE=URI:https://www.reus.cat/agenda/caminada-saludable-sortida-barri-c
 arrilet-i-pastoreta
END:VEVENT
END:VCALENDAR
