BEGIN:VCALENDAR
VERSION:2.0
PRODID:-//Date iCal//NONSGML kigkonsult.se iCalcreator 2.20.4//
METHOD:PUBLISH
X-WR-CALNAME;VALUE=TEXT:Agenda Backoffice (Calendari)
BEGIN:VTIMEZONE
TZID:Africa/Abidjan
BEGIN:STANDARD
DTSTART:19120101T000000
TZOFFSETFROM:-001608
TZOFFSETTO:+0000
TZNAME:GMT
END:STANDARD
END:VTIMEZONE
BEGIN:VEVENT
UID:calendar.2926985.field_data_agenda.0@www.reus.cat
DTSTAMP:20260421T151540Z
CREATED:20260408T104231Z
DTSTART;TZID=Africa/Abidjan:20260408T153000
DTEND;TZID=Africa/Abidjan:20260408T163000
LAST-MODIFIED:20260408T104231Z
SUMMARY:Taller de memòria
URL;TYPE=URI:https://www.reus.cat/agenda/taller-de-memoria
END:VEVENT
END:VCALENDAR
