BEGIN:VCALENDAR
VERSION:2.0
PRODID:-//Date iCal//NONSGML kigkonsult.se iCalcreator 2.20.4//
METHOD:PUBLISH
X-WR-CALNAME;VALUE=TEXT:Agenda Backoffice (Calendari)
BEGIN:VTIMEZONE
TZID:Africa/Abidjan
BEGIN:STANDARD
DTSTART:19120101T000000
TZOFFSETFROM:-001608
TZOFFSETTO:+0000
TZNAME:GMT
END:STANDARD
END:VTIMEZONE
BEGIN:VEVENT
UID:calendar.2927443.field_data_agenda.0@www.reus.cat
DTSTAMP:20260419T154752Z
CREATED:20260409T102355Z
DTSTART;TZID=Africa/Abidjan:20260409T121500
DTEND;TZID=Africa/Abidjan:20260409T123000
LAST-MODIFIED:20260413T074224Z
RRULE:FREQ=WEEKLY;UNTIL=20260430T215959Z;INTERVAL=1;WKST=MO
SUMMARY:Sant Jordi 2026
URL;TYPE=URI:https://www.reus.cat/agenda/sant-jordi-2026
END:VEVENT
END:VCALENDAR
