BEGIN:VCALENDAR
VERSION:2.0
PRODID:-//Date iCal//NONSGML kigkonsult.se iCalcreator 2.20.4//
METHOD:PUBLISH
X-WR-CALNAME;VALUE=TEXT:Agenda Backoffice (Calendari)
BEGIN:VTIMEZONE
TZID:Europe/Madrid
BEGIN:STANDARD
DTSTART:20251026T030000
TZOFFSETFROM:+0200
TZOFFSETTO:+0100
RDATE:20261025T030000
TZNAME:CET
END:STANDARD
BEGIN:DAYLIGHT
DTSTART:20260329T020000
TZOFFSETFROM:+0100
TZOFFSETTO:+0200
TZNAME:CEST
END:DAYLIGHT
END:VTIMEZONE
BEGIN:VEVENT
UID:calendar.2930626.field_data_agenda.0@www.reus.cat
DTSTAMP:20260423T141458Z
CREATED:20260416T061854Z
DTSTART;TZID=Europe/Madrid:20260416T173000
DTEND;TZID=Europe/Madrid:20260416T183000
LAST-MODIFIED:20260416T062129Z
SUMMARY:Còpia de Portes obertes a les escoles bressol municipals:  EBM El M
 arfull
URL;TYPE=URI:https://www.reus.cat/agenda/copia-de-portes-obertes-les-escole
 s-bressol-municipals-ebm-el-marfull
END:VEVENT
END:VCALENDAR
