BEGIN:VCALENDAR
VERSION:2.0
PRODID:-//Date iCal//NONSGML kigkonsult.se iCalcreator 2.20.4//
METHOD:PUBLISH
X-WR-CALNAME;VALUE=TEXT:Agenda Backoffice (Calendari)
BEGIN:VTIMEZONE
TZID:Europe/Madrid
BEGIN:STANDARD
DTSTART:20251026T030000
TZOFFSETFROM:+0200
TZOFFSETTO:+0100
RDATE:20261025T030000
TZNAME:CET
END:STANDARD
BEGIN:DAYLIGHT
DTSTART:20260329T020000
TZOFFSETFROM:+0100
TZOFFSETTO:+0200
TZNAME:CEST
END:DAYLIGHT
END:VTIMEZONE
BEGIN:VEVENT
UID:calendar.2933247.field_data_agenda.0@www.reus.cat
DTSTAMP:20260422T033807Z
CREATED:20260421T101642Z
DTSTART;TZID=Europe/Madrid:20260504T090000
DTEND;TZID=Europe/Madrid:20260504T130000
LAST-MODIFIED:20260421T152647Z
RRULE:FREQ=WEEKLY;UNTIL=20260528T195959Z;INTERVAL=1;BYDAY=MO,TU,WE,TH,FR;WK
 ST=MO
SUMMARY:ACCIONS PER A LA SALUT DE LES DONES
URL;TYPE=URI:https://www.reus.cat/agenda/accions-la-salut-de-les-dones-0
END:VEVENT
END:VCALENDAR
