BEGIN:VCALENDAR
VERSION:2.0
PRODID:-//Date iCal//NONSGML kigkonsult.se iCalcreator 2.20.4//
METHOD:PUBLISH
X-WR-CALNAME;VALUE=TEXT:Agenda Backoffice (Calendari)
BEGIN:VTIMEZONE
TZID:Europe/Madrid
BEGIN:STANDARD
DTSTART:20251026T030000
TZOFFSETFROM:+0200
TZOFFSETTO:+0100
RDATE:20261025T030000
TZNAME:CET
END:STANDARD
BEGIN:DAYLIGHT
DTSTART:20260329T020000
TZOFFSETFROM:+0100
TZOFFSETTO:+0200
TZNAME:CEST
END:DAYLIGHT
END:VTIMEZONE
BEGIN:VEVENT
UID:calendar.2933313.field_data_agenda.0@www.reus.cat
DTSTAMP:20260421T181238Z
CREATED:20260421T124945Z
DTSTART;TZID=Europe/Madrid:20260422T170000
DTEND;TZID=Europe/Madrid:20260422T190000
LAST-MODIFIED:20260421T143634Z
RRULE:FREQ=DAILY;UNTIL=20260423T195959Z;INTERVAL=1;WKST=MO
SUMMARY:Paradetes solidàries dels centres del Servei d'Intervenció Socioedu
 cativa (SIS) als centres cívics
URL;TYPE=URI:https://www.reus.cat/agenda/paradetes-solidaries-dels-centres-
 del-servei-dintervencio-socioeducativa-sis-als-centres
END:VEVENT
END:VCALENDAR
