BEGIN:VCALENDAR
VERSION:2.0
PRODID:-//Date iCal//NONSGML kigkonsult.se iCalcreator 2.20.4//
METHOD:PUBLISH
X-WR-CALNAME;VALUE=TEXT:Agenda Backoffice (Calendari)
BEGIN:VTIMEZONE
TZID:Europe/Madrid
BEGIN:STANDARD
DTSTART:20251026T030000
TZOFFSETFROM:+0200
TZOFFSETTO:+0100
RDATE:20261025T030000
TZNAME:CET
END:STANDARD
BEGIN:DAYLIGHT
DTSTART:20260329T020000
TZOFFSETFROM:+0100
TZOFFSETTO:+0200
TZNAME:CEST
END:DAYLIGHT
END:VTIMEZONE
BEGIN:VEVENT
UID:calendar.2933336.field_data_agenda.0@www.reus.cat
DTSTAMP:20260421T234343Z
CREATED:20260421T132904Z
DTSTART;TZID=Europe/Madrid:20260504T100000
DTEND;TZID=Europe/Madrid:20260504T190000
LAST-MODIFIED:20260421T133912Z
RRULE:FREQ=DAILY;UNTIL=20260508T195959Z;INTERVAL=5;WKST=MO
SUMMARY:Dispensador de compostatge - Ubicacions de la deixalleria mòbil
URL;TYPE=URI:https://www.reus.cat/agenda/dispensador-de-compostatge-ubicaci
 ons-de-la-deixalleria-mobil
END:VEVENT
END:VCALENDAR
